BEGIN:VCALENDAR
VERSION:2.0
PRODID:-//ExpressionEngine Easy iCalendar plugin//NONSGML v2.0.1//EN
X-WR-TIMEZONE:America/New_York
X-WR-CALNAME:Upcoming Auctions
BEGIN:VEVENT
UID:160963
DTSTAMP:20260423T100000
DTSTART:20260423T100000
DTEND:20260430T200000
SUMMARY:Decor & More
LOCATION:1138 W Main Street\, Morristown\, TN 37814\, US
DESCRIPTION:Online Only Auction This Auction has many items including G
 lassware\, Large Vases\, Household Items\, and much more!!  AU
 CTION DATES Online Only Bidding Bidding will open on Thursda
 y April 23\, 2026\, at 3:30 p.m. Bidding will close on Thurs
 day April 30\, 2026\, at 8:00 p.m. BUYERS PREMIUM For purch
 asers paying by credit card a 13% Buyer’s Premium will be 
 added to your bid price to determine the final sales price o
 f the items purchased. For purchasers paying by cash\, cashie
 r’s check or wire transfer a 10% Buyer’s Premium will be
  added to your bid price to determine the final sales price 
 of the items purchased. SALES TAX This auction is not subjec
 t to Sales Tax PREVIEW TBD AUCTION LOCATION 1138 West Main S
 treet Morristown TN 37814 AUCTION PICK UP DATE / TIME Friday
  May 1\, 2026\, from 10:00 A.M. to 5:00 P.M. (ALL ITEMS MUST 
 BE PICKED UP ON SCHEDULED PICK-UP DAYS\, NO EXCEPTIONS) SHIPP
 ING IS AVAILABLE. BUYER MUST PAY SHIPPING
URL:https://www.hurstauctioncompany.com/auctions/detail/bw160963
SEQUENCE:1
END:VEVENT
END:VCALENDAR