BEGIN:VCALENDAR
VERSION:2.0
PRODID:-//ExpressionEngine Easy iCalendar plugin//NONSGML v2.0.1//EN
X-WR-TIMEZONE:America/New_York
X-WR-CALNAME:Upcoming Auctions
BEGIN:VEVENT
UID:160754
DTSTAMP:20260422T153000
DTSTART:20260422T153000
DTEND:20260428T190000
SUMMARY:Online Only Auction
LOCATION:1138 W Main Street\, Morristown\, TN 37814\, US
DESCRIPTION:Online Only Auction This Auction has many items including G
 lassware\, Home Decor\, Metal Signs\, Collectibles\,  New Stoc
 k Items and much more!!  AUCTION DATES Online Only Bidding 
 Bidding will open on Wednesday April 22\, 2026\, at 3:30 p.m.
  Bidding will close on Tuesday April 28\, 2026\, at 7:00 p.
 m. BUYERS PREMIUM For purchasers paying by credit card a 13%
  Buyer’s Premium will be added to your bid price to determ
 ine the final sales price of the items purchased. For purcha
 sers paying by cash\, cashier’s check or wire transfer a 10
 % Buyer’s Premium will be added to your bid price to deter
 mine the final sales price of the items purchased. SALES TAX
  This auction is not subject to Sales Tax PREVIEW TBD AUCTIO
 N LOCATION 1138 West Main Street Morristown TN 37814 AUCTION
  PICK UP DATE / TIME Friday May 1\, 2026\, from 10:00 A.M. to
  5:00 P.M. (ALL ITEMS MUST BE PICKED UP ON SCHEDULED PICK-UP
  DAYS\, NO EXCEPTIONS) SHIPPING IS AVAILABLE. BUYER MUST PAY 
 SHIPPING
URL:https://www.hurstauctioncompany.com/auctions/detail/bw160754
SEQUENCE:1
END:VEVENT
END:VCALENDAR