BEGIN:VCALENDAR
VERSION:2.0
PRODID:-//ExpressionEngine Easy iCalendar plugin//NONSGML v2.0.1//EN
X-WR-TIMEZONE:America/New_York
X-WR-CALNAME:Upcoming Auctions
BEGIN:VEVENT
UID:160679
DTSTAMP:20260419T213000
DTSTART:20260419T213000
DTEND:20260423T200000
SUMMARY:Short Notice Auction
LOCATION:1138 W Main Street \, Morristown \, TN 37814\, US
DESCRIPTION:Online Only Auction This Auction has many items including Ho
 me Decor\, Handmade Jewelry\, Tools\, and much more!!  AUCTIO
 N DATES Online Only Bidding Bidding will open on Sunday Apri
 l 19\, 2026\, at 9:30 p.m. Bidding will close on Thursday Ap
 ril 23\, 2026\, at 8:00 p.m. BUYERS PREMIUM For purchasers p
 aying by credit card a 13% Buyer’s Premium will be added t
 o your bid price to determine the final sales price of the i
 tems purchased. For purchasers paying by cash\, cashier’s c
 heck or wire transfer a 10% Buyer’s Premium will be added 
 to your bid price to determine the final sales price of the 
 items purchased. SALES TAX This auction is not subject to Sa
 les Tax PREVIEW TBD AUCTION LOCATION 1138 West Main Street M
 orristown TN 37814 AUCTION PICK UP DATE / TIME Friday April 
 24\, 2026\, from 10:00 A.M. to 5:00 P.M. (ALL ITEMS MUST BE PI
 CKED UP ON SCHEDULED PICK-UP DAYS\, NO EXCEPTIONS) SHIPPING I
 S AVAILABLE. BUYER MUST PAY SHIPPING
URL:https://www.hurstauctioncompany.com/auctions/detail/bw160679
SEQUENCE:1
END:VEVENT
END:VCALENDAR