BEGIN:VCALENDAR
VERSION:2.0
PRODID:-//ExpressionEngine Easy iCalendar plugin//NONSGML v2.0.1//EN
X-WR-TIMEZONE:America/New_York
X-WR-CALNAME:Upcoming Auctions
BEGIN:VEVENT
UID:158501
DTSTAMP:20260420T093000
DTSTART:20260420T093000
DTEND:20260506T190000
SUMMARY:Jefferson City Estate Sale
LOCATION:1003 Green Acres Drive\, Jefferson City \, TN 37760\, US
DESCRIPTION:Online Only Auction This Auction has many items including Co
 llectibles\, Jewelry\, Trinkets\, Box Lots\, Home Decor and muc
 h more!!! AUCTION DATES Online Only Bidding Bidding will ope
 n on Monday April 20\, 2026\, at 9:30 a.m. Bidding will close 
 on Wednesday May 6\, 2026\, at 7:00 p.m. BUYERS PREMIUM For 
 purchasers paying by credit card a 13% Buyer’s Premium wil
 l be added to your bid price to determine the final sales pr
 ice of the items purchased. For purchasers paying by cash\, c
 ashier’s check or wire transfer a 10% Buyer’s Premium wi
 ll be added to your bid price to determine the final sales p
 rice of the items purchased. SALES TAX This auction is not s
 ubject to Sales Tax PREVIEW TBD AUCTION LOCATION  1003 Gree
 n Acres Drive Jefferson City TN 37760 AUCTION PICK UP DATE 
 / TIME Thursday May 7\, 2026\, from 10:00 A.M. to 5:00 P.M. (
 ALL ITEMS MUST BE PICKED UP ON SCHEDULED PICK-UP DAYS\, NO EX
 CEPTIONS) SHIPPING IS AVAILABLE. BUYER MUST PAY SHIPPING COS
 TS    UPDATED NOTICE REGARDING PICKUP FROM MORRISTOWN 
 OFFICE We are happy to offer item transport back to our Morr
 istown office for customer pickup. There is a $10 minimum tr
 ansport fee for this service. For invoices with 10 or more i
 tems\, the fee will be $1 per item instead of the $10 flat ra
 te. Please let us know in advance if you would like to use t
 his service so we can prepare your items
URL:https://www.hurstauctioncompany.com/auctions/detail/bw158501
SEQUENCE:1
END:VEVENT
END:VCALENDAR